BEGIN:VCALENDAR
VERSION:2.0
PRODID:-//Cathedral International - ECPv6.15.17.1//NONSGML v1.0//EN
CALSCALE:GREGORIAN
METHOD:PUBLISH
X-WR-CALNAME:Cathedral International
X-ORIGINAL-URL:https://cathedralinternational.org
X-WR-CALDESC:Events for Cathedral International
REFRESH-INTERVAL;VALUE=DURATION:PT1H
X-Robots-Tag:noindex
X-PUBLISHED-TTL:PT1H
BEGIN:VTIMEZONE
TZID:America/New_York
BEGIN:DAYLIGHT
TZOFFSETFROM:-0500
TZOFFSETTO:-0400
TZNAME:EDT
DTSTART:20290311T070000
END:DAYLIGHT
BEGIN:STANDARD
TZOFFSETFROM:-0400
TZOFFSETTO:-0500
TZNAME:EST
DTSTART:20291104T060000
END:STANDARD
BEGIN:DAYLIGHT
TZOFFSETFROM:-0500
TZOFFSETTO:-0400
TZNAME:EDT
DTSTART:20300310T070000
END:DAYLIGHT
BEGIN:STANDARD
TZOFFSETFROM:-0400
TZOFFSETTO:-0500
TZNAME:EST
DTSTART:20301103T060000
END:STANDARD
BEGIN:DAYLIGHT
TZOFFSETFROM:-0500
TZOFFSETTO:-0400
TZNAME:EDT
DTSTART:20310309T070000
END:DAYLIGHT
BEGIN:STANDARD
TZOFFSETFROM:-0400
TZOFFSETTO:-0500
TZNAME:EST
DTSTART:20311102T060000
END:STANDARD
END:VTIMEZONE
BEGIN:VEVENT
DTSTART;TZID=America/New_York:20301201T093000
DTEND;TZID=America/New_York:20301201T103000
DTSTAMP:20260419T133434
CREATED:20260131T130926Z
LAST-MODIFIED:20260131T155329Z
UID:10013150-1922347800-1922351400@cathedralinternational.org
SUMMARY:Children and Youth Sunday School
DESCRIPTION:
URL:https://cathedralinternational.org/event/children-and-youth-sunday-school/2030-12-01/
LOCATION:Cathedral International\, 277 Madison Avenue\, Perth Amboy\, 08861\, United States
ATTACH;FMTTYPE=image/jpeg:https://cathedralinternational.org/wp-content/uploads/2026/01/ChildrenAndYouthSundaySchool.jpg
END:VEVENT
BEGIN:VEVENT
DTSTART;TZID=America/New_York:20301201T093000
DTEND;TZID=America/New_York:20301201T113000
DTSTAMP:20260419T133434
CREATED:20260131T051552Z
LAST-MODIFIED:20260419T030800Z
UID:10012745-1922347800-1922355000@cathedralinternational.org
SUMMARY:Sunday Worship
DESCRIPTION:
URL:https://cathedralinternational.org/event/sunday-worship/2030-12-01/
LOCATION:Cathedral International\, 277 Madison Avenue\, Perth Amboy\, 08861\, United States
ATTACH;FMTTYPE=image/jpeg:https://cathedralinternational.org/wp-content/uploads/2026/01/SundayWorship.jpeg
END:VEVENT
BEGIN:VEVENT
DTSTART;TZID=America/New_York:20301202T063000
DTEND;TZID=America/New_York:20301202T070000
DTSTAMP:20260419T133434
CREATED:20240905T193350Z
LAST-MODIFIED:20260203T205050Z
UID:10013413-1922423400-1922425200@cathedralinternational.org
SUMMARY:Early Morning Prayer
DESCRIPTION:Please join us every morning\, Monday through Friday at 6:30 am for Cathedral International’s early morning prayer call. \nDIAL: (667) 770-1524\nCODE: 736131#
URL:https://cathedralinternational.org/event/early-morning-prayer-2/2030-12-02/
ATTACH;FMTTYPE=image/jpeg:https://cathedralinternational.org/wp-content/uploads/2024/09/SaltPepper.jpg
END:VEVENT
BEGIN:VEVENT
DTSTART;TZID=America/New_York:20301203T063000
DTEND;TZID=America/New_York:20301203T070000
DTSTAMP:20260419T133434
CREATED:20240905T193350Z
LAST-MODIFIED:20260203T205050Z
UID:10013414-1922509800-1922511600@cathedralinternational.org
SUMMARY:Early Morning Prayer
DESCRIPTION:Please join us every morning\, Monday through Friday at 6:30 am for Cathedral International’s early morning prayer call. \nDIAL: (667) 770-1524\nCODE: 736131#
URL:https://cathedralinternational.org/event/early-morning-prayer-2/2030-12-03/
ATTACH;FMTTYPE=image/jpeg:https://cathedralinternational.org/wp-content/uploads/2024/09/SaltPepper.jpg
END:VEVENT
BEGIN:VEVENT
DTSTART;TZID=America/New_York:20301204T063000
DTEND;TZID=America/New_York:20301204T070000
DTSTAMP:20260419T133434
CREATED:20240905T193350Z
LAST-MODIFIED:20260203T205050Z
UID:10013415-1922596200-1922598000@cathedralinternational.org
SUMMARY:Early Morning Prayer
DESCRIPTION:Please join us every morning\, Monday through Friday at 6:30 am for Cathedral International’s early morning prayer call. \nDIAL: (667) 770-1524\nCODE: 736131#
URL:https://cathedralinternational.org/event/early-morning-prayer-2/2030-12-04/
ATTACH;FMTTYPE=image/jpeg:https://cathedralinternational.org/wp-content/uploads/2024/09/SaltPepper.jpg
END:VEVENT
BEGIN:VEVENT
DTSTART;TZID=America/New_York:20301204T190000
DTEND;TZID=America/New_York:20301204T200000
DTSTAMP:20260419T133434
CREATED:20241205T011225Z
LAST-MODIFIED:20251214T023734Z
UID:10012756-1922641200-1922644800@cathedralinternational.org
SUMMARY:Wonderful Wednesday in The Word
DESCRIPTION:Join us each week for Wonderful Wednesday in the Word\, a time of encouragement\, reflection\, and spiritual growth through the study of God’s Word.\nConnect with us for a midweek recharge and deeper understanding of the Scriptures!\nClick Link To Join Bible Study\n\n\nDates: Every Wednesday\n\n\nTime: 7:00 PM\n\n\nZoom ID: 96839503848 | Passcode: 200470\n\n\nWe look forward to growing in faith with you each week!
URL:https://cathedralinternational.org/event/wonderful-wednesday-in-the-word/2030-12-04/
LOCATION:Cathedral Zoom
ATTACH;FMTTYPE=image/jpeg:https://cathedralinternational.org/wp-content/uploads/2025/11/2-2.jpeg
END:VEVENT
BEGIN:VEVENT
DTSTART;TZID=America/New_York:20301205T063000
DTEND;TZID=America/New_York:20301205T070000
DTSTAMP:20260419T133434
CREATED:20240905T193350Z
LAST-MODIFIED:20260203T205050Z
UID:10013416-1922682600-1922684400@cathedralinternational.org
SUMMARY:Early Morning Prayer
DESCRIPTION:Please join us every morning\, Monday through Friday at 6:30 am for Cathedral International’s early morning prayer call. \nDIAL: (667) 770-1524\nCODE: 736131#
URL:https://cathedralinternational.org/event/early-morning-prayer-2/2030-12-05/
ATTACH;FMTTYPE=image/jpeg:https://cathedralinternational.org/wp-content/uploads/2024/09/SaltPepper.jpg
END:VEVENT
BEGIN:VEVENT
DTSTART;TZID=America/New_York:20301206T063000
DTEND;TZID=America/New_York:20301206T070000
DTSTAMP:20260419T133434
CREATED:20240905T193350Z
LAST-MODIFIED:20260203T205050Z
UID:10013417-1922769000-1922770800@cathedralinternational.org
SUMMARY:Early Morning Prayer
DESCRIPTION:Please join us every morning\, Monday through Friday at 6:30 am for Cathedral International’s early morning prayer call. \nDIAL: (667) 770-1524\nCODE: 736131#
URL:https://cathedralinternational.org/event/early-morning-prayer-2/2030-12-06/
ATTACH;FMTTYPE=image/jpeg:https://cathedralinternational.org/wp-content/uploads/2024/09/SaltPepper.jpg
END:VEVENT
BEGIN:VEVENT
DTSTART;TZID=America/New_York:20301208T093000
DTEND;TZID=America/New_York:20301208T113000
DTSTAMP:20260419T133434
CREATED:20260131T051552Z
LAST-MODIFIED:20260419T030800Z
UID:10012746-1922952600-1922959800@cathedralinternational.org
SUMMARY:Sunday Worship
DESCRIPTION:
URL:https://cathedralinternational.org/event/sunday-worship/2030-12-08/
LOCATION:Cathedral International\, 277 Madison Avenue\, Perth Amboy\, 08861\, United States
ATTACH;FMTTYPE=image/jpeg:https://cathedralinternational.org/wp-content/uploads/2026/01/SundayWorship.jpeg
END:VEVENT
BEGIN:VEVENT
DTSTART;TZID=America/New_York:20301209T063000
DTEND;TZID=America/New_York:20301209T070000
DTSTAMP:20260419T133434
CREATED:20240905T193350Z
LAST-MODIFIED:20260203T205050Z
UID:10013418-1923028200-1923030000@cathedralinternational.org
SUMMARY:Early Morning Prayer
DESCRIPTION:Please join us every morning\, Monday through Friday at 6:30 am for Cathedral International’s early morning prayer call. \nDIAL: (667) 770-1524\nCODE: 736131#
URL:https://cathedralinternational.org/event/early-morning-prayer-2/2030-12-09/
ATTACH;FMTTYPE=image/jpeg:https://cathedralinternational.org/wp-content/uploads/2024/09/SaltPepper.jpg
END:VEVENT
BEGIN:VEVENT
DTSTART;TZID=America/New_York:20301210T063000
DTEND;TZID=America/New_York:20301210T070000
DTSTAMP:20260419T133434
CREATED:20240905T193350Z
LAST-MODIFIED:20260203T205050Z
UID:10013419-1923114600-1923116400@cathedralinternational.org
SUMMARY:Early Morning Prayer
DESCRIPTION:Please join us every morning\, Monday through Friday at 6:30 am for Cathedral International’s early morning prayer call. \nDIAL: (667) 770-1524\nCODE: 736131#
URL:https://cathedralinternational.org/event/early-morning-prayer-2/2030-12-10/
ATTACH;FMTTYPE=image/jpeg:https://cathedralinternational.org/wp-content/uploads/2024/09/SaltPepper.jpg
END:VEVENT
BEGIN:VEVENT
DTSTART;TZID=America/New_York:20301211T063000
DTEND;TZID=America/New_York:20301211T070000
DTSTAMP:20260419T133434
CREATED:20240905T193350Z
LAST-MODIFIED:20260203T205050Z
UID:10013420-1923201000-1923202800@cathedralinternational.org
SUMMARY:Early Morning Prayer
DESCRIPTION:Please join us every morning\, Monday through Friday at 6:30 am for Cathedral International’s early morning prayer call. \nDIAL: (667) 770-1524\nCODE: 736131#
URL:https://cathedralinternational.org/event/early-morning-prayer-2/2030-12-11/
ATTACH;FMTTYPE=image/jpeg:https://cathedralinternational.org/wp-content/uploads/2024/09/SaltPepper.jpg
END:VEVENT
BEGIN:VEVENT
DTSTART;TZID=America/New_York:20301211T190000
DTEND;TZID=America/New_York:20301211T200000
DTSTAMP:20260419T133434
CREATED:20241205T011225Z
LAST-MODIFIED:20251214T023734Z
UID:10012757-1923246000-1923249600@cathedralinternational.org
SUMMARY:Wonderful Wednesday in The Word
DESCRIPTION:Join us each week for Wonderful Wednesday in the Word\, a time of encouragement\, reflection\, and spiritual growth through the study of God’s Word.\nConnect with us for a midweek recharge and deeper understanding of the Scriptures!\nClick Link To Join Bible Study\n\n\nDates: Every Wednesday\n\n\nTime: 7:00 PM\n\n\nZoom ID: 96839503848 | Passcode: 200470\n\n\nWe look forward to growing in faith with you each week!
URL:https://cathedralinternational.org/event/wonderful-wednesday-in-the-word/2030-12-11/
LOCATION:Cathedral Zoom
ATTACH;FMTTYPE=image/jpeg:https://cathedralinternational.org/wp-content/uploads/2025/11/2-2.jpeg
END:VEVENT
BEGIN:VEVENT
DTSTART;TZID=America/New_York:20301212T063000
DTEND;TZID=America/New_York:20301212T070000
DTSTAMP:20260419T133434
CREATED:20240905T193350Z
LAST-MODIFIED:20260203T205050Z
UID:10013421-1923287400-1923289200@cathedralinternational.org
SUMMARY:Early Morning Prayer
DESCRIPTION:Please join us every morning\, Monday through Friday at 6:30 am for Cathedral International’s early morning prayer call. \nDIAL: (667) 770-1524\nCODE: 736131#
URL:https://cathedralinternational.org/event/early-morning-prayer-2/2030-12-12/
ATTACH;FMTTYPE=image/jpeg:https://cathedralinternational.org/wp-content/uploads/2024/09/SaltPepper.jpg
END:VEVENT
BEGIN:VEVENT
DTSTART;TZID=America/New_York:20301212T193000
DTEND;TZID=America/New_York:20301212T203000
DTSTAMP:20260419T133434
CREATED:20260308T003705Z
LAST-MODIFIED:20260308T003822Z
UID:10013606-1923334200-1923337800@cathedralinternational.org
SUMMARY:Teen Bible Study
DESCRIPTION:March 12\, 2026 at 7:30 PM – CI Nation Teens Bible Study Launch\nWe are officially launching our Teens Bible Study! This will be a powerful time of diving deeper into God’s Word\, real conversations\, and spiritual growth. Don’t miss this special night\, invite a friend!\n\nClick here to join us on our YouTube Channel!
URL:https://cathedralinternational.org/event/teen-bible-study/2030-12-12/
LOCATION:Cathedral International\, 277 Madison Avenue\, Perth Amboy\, 08861\, United States
ATTACH;FMTTYPE=image/png:https://cathedralinternational.org/wp-content/uploads/2026/03/teenbiblestudy.png
END:VEVENT
BEGIN:VEVENT
DTSTART;TZID=America/New_York:20301213T063000
DTEND;TZID=America/New_York:20301213T070000
DTSTAMP:20260419T133434
CREATED:20240905T193350Z
LAST-MODIFIED:20260203T205050Z
UID:10013422-1923373800-1923375600@cathedralinternational.org
SUMMARY:Early Morning Prayer
DESCRIPTION:Please join us every morning\, Monday through Friday at 6:30 am for Cathedral International’s early morning prayer call. \nDIAL: (667) 770-1524\nCODE: 736131#
URL:https://cathedralinternational.org/event/early-morning-prayer-2/2030-12-13/
ATTACH;FMTTYPE=image/jpeg:https://cathedralinternational.org/wp-content/uploads/2024/09/SaltPepper.jpg
END:VEVENT
BEGIN:VEVENT
DTSTART;TZID=America/New_York:20301215T093000
DTEND;TZID=America/New_York:20301215T113000
DTSTAMP:20260419T133434
CREATED:20260131T051552Z
LAST-MODIFIED:20260419T030800Z
UID:10013156-1923557400-1923564600@cathedralinternational.org
SUMMARY:Sunday Worship
DESCRIPTION:
URL:https://cathedralinternational.org/event/sunday-worship/2030-12-15/
LOCATION:Cathedral International\, 277 Madison Avenue\, Perth Amboy\, 08861\, United States
ATTACH;FMTTYPE=image/jpeg:https://cathedralinternational.org/wp-content/uploads/2026/01/SundayWorship.jpeg
END:VEVENT
BEGIN:VEVENT
DTSTART;TZID=America/New_York:20301216T063000
DTEND;TZID=America/New_York:20301216T070000
DTSTAMP:20260419T133434
CREATED:20240905T193350Z
LAST-MODIFIED:20260203T205050Z
UID:10013423-1923633000-1923634800@cathedralinternational.org
SUMMARY:Early Morning Prayer
DESCRIPTION:Please join us every morning\, Monday through Friday at 6:30 am for Cathedral International’s early morning prayer call. \nDIAL: (667) 770-1524\nCODE: 736131#
URL:https://cathedralinternational.org/event/early-morning-prayer-2/2030-12-16/
ATTACH;FMTTYPE=image/jpeg:https://cathedralinternational.org/wp-content/uploads/2024/09/SaltPepper.jpg
END:VEVENT
BEGIN:VEVENT
DTSTART;TZID=America/New_York:20301217T063000
DTEND;TZID=America/New_York:20301217T070000
DTSTAMP:20260419T133434
CREATED:20240905T193350Z
LAST-MODIFIED:20260203T205050Z
UID:10013424-1923719400-1923721200@cathedralinternational.org
SUMMARY:Early Morning Prayer
DESCRIPTION:Please join us every morning\, Monday through Friday at 6:30 am for Cathedral International’s early morning prayer call. \nDIAL: (667) 770-1524\nCODE: 736131#
URL:https://cathedralinternational.org/event/early-morning-prayer-2/2030-12-17/
ATTACH;FMTTYPE=image/jpeg:https://cathedralinternational.org/wp-content/uploads/2024/09/SaltPepper.jpg
END:VEVENT
BEGIN:VEVENT
DTSTART;TZID=America/New_York:20301218T063000
DTEND;TZID=America/New_York:20301218T070000
DTSTAMP:20260419T133434
CREATED:20240905T193350Z
LAST-MODIFIED:20260203T205050Z
UID:10013425-1923805800-1923807600@cathedralinternational.org
SUMMARY:Early Morning Prayer
DESCRIPTION:Please join us every morning\, Monday through Friday at 6:30 am for Cathedral International’s early morning prayer call. \nDIAL: (667) 770-1524\nCODE: 736131#
URL:https://cathedralinternational.org/event/early-morning-prayer-2/2030-12-18/
ATTACH;FMTTYPE=image/jpeg:https://cathedralinternational.org/wp-content/uploads/2024/09/SaltPepper.jpg
END:VEVENT
BEGIN:VEVENT
DTSTART;TZID=America/New_York:20301219T063000
DTEND;TZID=America/New_York:20301219T070000
DTSTAMP:20260419T133434
CREATED:20240905T193350Z
LAST-MODIFIED:20260203T205050Z
UID:10013426-1923892200-1923894000@cathedralinternational.org
SUMMARY:Early Morning Prayer
DESCRIPTION:Please join us every morning\, Monday through Friday at 6:30 am for Cathedral International’s early morning prayer call. \nDIAL: (667) 770-1524\nCODE: 736131#
URL:https://cathedralinternational.org/event/early-morning-prayer-2/2030-12-19/
ATTACH;FMTTYPE=image/jpeg:https://cathedralinternational.org/wp-content/uploads/2024/09/SaltPepper.jpg
END:VEVENT
BEGIN:VEVENT
DTSTART;TZID=America/New_York:20301220T063000
DTEND;TZID=America/New_York:20301220T070000
DTSTAMP:20260419T133434
CREATED:20240905T193350Z
LAST-MODIFIED:20260203T205050Z
UID:10013427-1923978600-1923980400@cathedralinternational.org
SUMMARY:Early Morning Prayer
DESCRIPTION:Please join us every morning\, Monday through Friday at 6:30 am for Cathedral International’s early morning prayer call. \nDIAL: (667) 770-1524\nCODE: 736131#
URL:https://cathedralinternational.org/event/early-morning-prayer-2/2030-12-20/
ATTACH;FMTTYPE=image/jpeg:https://cathedralinternational.org/wp-content/uploads/2024/09/SaltPepper.jpg
END:VEVENT
BEGIN:VEVENT
DTSTART;TZID=America/New_York:20301222T093000
DTEND;TZID=America/New_York:20301222T103000
DTSTAMP:20260419T133434
CREATED:20250202T052912Z
LAST-MODIFIED:20260131T161628Z
UID:10013173-1924162200-1924165800@cathedralinternational.org
SUMMARY:Sunday School
DESCRIPTION:
URL:https://cathedralinternational.org/event/sunday-school-2/2030-12-22/
LOCATION:The Family Life Center\, 272 Madison Ave.\, Perth Amboy\, NJ\, 08861\, United States
ATTACH;FMTTYPE=image/jpeg:https://cathedralinternational.org/wp-content/uploads/2026/01/ChildrenAndYouthSundaySchool.jpg
END:VEVENT
BEGIN:VEVENT
DTSTART;TZID=America/New_York:20301222T093000
DTEND;TZID=America/New_York:20301222T103000
DTSTAMP:20260419T133434
CREATED:20260131T131006Z
LAST-MODIFIED:20260131T160031Z
UID:10013154-1924162200-1924165800@cathedralinternational.org
SUMMARY:Children and Youth Sunday School
DESCRIPTION:
URL:https://cathedralinternational.org/event/children-and-youth-sunday-school-2/2030-12-22/
LOCATION:Cathedral International\, 277 Madison Avenue\, Perth Amboy\, 08861\, United States
ATTACH;FMTTYPE=image/jpeg:https://cathedralinternational.org/wp-content/uploads/2026/01/ChildrenAndYouthSundaySchool.jpg
END:VEVENT
BEGIN:VEVENT
DTSTART;TZID=America/New_York:20301222T093000
DTEND;TZID=America/New_York:20301222T113000
DTSTAMP:20260419T133434
CREATED:20260131T051552Z
LAST-MODIFIED:20260419T030800Z
UID:10013157-1924162200-1924169400@cathedralinternational.org
SUMMARY:Sunday Worship
DESCRIPTION:
URL:https://cathedralinternational.org/event/sunday-worship/2030-12-22/
LOCATION:Cathedral International\, 277 Madison Avenue\, Perth Amboy\, 08861\, United States
ATTACH;FMTTYPE=image/jpeg:https://cathedralinternational.org/wp-content/uploads/2026/01/SundayWorship.jpeg
END:VEVENT
BEGIN:VEVENT
DTSTART;TZID=America/New_York:20301223T063000
DTEND;TZID=America/New_York:20301223T070000
DTSTAMP:20260419T133434
CREATED:20240905T193350Z
LAST-MODIFIED:20260203T205050Z
UID:10013428-1924237800-1924239600@cathedralinternational.org
SUMMARY:Early Morning Prayer
DESCRIPTION:Please join us every morning\, Monday through Friday at 6:30 am for Cathedral International’s early morning prayer call. \nDIAL: (667) 770-1524\nCODE: 736131#
URL:https://cathedralinternational.org/event/early-morning-prayer-2/2030-12-23/
ATTACH;FMTTYPE=image/jpeg:https://cathedralinternational.org/wp-content/uploads/2024/09/SaltPepper.jpg
END:VEVENT
BEGIN:VEVENT
DTSTART;TZID=America/New_York:20301224T063000
DTEND;TZID=America/New_York:20301224T070000
DTSTAMP:20260419T133434
CREATED:20240905T193350Z
LAST-MODIFIED:20260203T205050Z
UID:10013429-1924324200-1924326000@cathedralinternational.org
SUMMARY:Early Morning Prayer
DESCRIPTION:Please join us every morning\, Monday through Friday at 6:30 am for Cathedral International’s early morning prayer call. \nDIAL: (667) 770-1524\nCODE: 736131#
URL:https://cathedralinternational.org/event/early-morning-prayer-2/2030-12-24/
ATTACH;FMTTYPE=image/jpeg:https://cathedralinternational.org/wp-content/uploads/2024/09/SaltPepper.jpg
END:VEVENT
BEGIN:VEVENT
DTSTART;TZID=America/New_York:20301225T063000
DTEND;TZID=America/New_York:20301225T070000
DTSTAMP:20260419T133434
CREATED:20240905T193350Z
LAST-MODIFIED:20260203T205050Z
UID:10013430-1924410600-1924412400@cathedralinternational.org
SUMMARY:Early Morning Prayer
DESCRIPTION:Please join us every morning\, Monday through Friday at 6:30 am for Cathedral International’s early morning prayer call. \nDIAL: (667) 770-1524\nCODE: 736131#
URL:https://cathedralinternational.org/event/early-morning-prayer-2/2030-12-25/
ATTACH;FMTTYPE=image/jpeg:https://cathedralinternational.org/wp-content/uploads/2024/09/SaltPepper.jpg
END:VEVENT
BEGIN:VEVENT
DTSTART;TZID=America/New_York:20301226T063000
DTEND;TZID=America/New_York:20301226T070000
DTSTAMP:20260419T133434
CREATED:20240905T193350Z
LAST-MODIFIED:20260203T205050Z
UID:10013431-1924497000-1924498800@cathedralinternational.org
SUMMARY:Early Morning Prayer
DESCRIPTION:Please join us every morning\, Monday through Friday at 6:30 am for Cathedral International’s early morning prayer call. \nDIAL: (667) 770-1524\nCODE: 736131#
URL:https://cathedralinternational.org/event/early-morning-prayer-2/2030-12-26/
ATTACH;FMTTYPE=image/jpeg:https://cathedralinternational.org/wp-content/uploads/2024/09/SaltPepper.jpg
END:VEVENT
BEGIN:VEVENT
DTSTART;TZID=America/New_York:20301227T063000
DTEND;TZID=America/New_York:20301227T070000
DTSTAMP:20260419T133434
CREATED:20240905T193350Z
LAST-MODIFIED:20260203T205050Z
UID:10013432-1924583400-1924585200@cathedralinternational.org
SUMMARY:Early Morning Prayer
DESCRIPTION:Please join us every morning\, Monday through Friday at 6:30 am for Cathedral International’s early morning prayer call. \nDIAL: (667) 770-1524\nCODE: 736131#
URL:https://cathedralinternational.org/event/early-morning-prayer-2/2030-12-27/
ATTACH;FMTTYPE=image/jpeg:https://cathedralinternational.org/wp-content/uploads/2024/09/SaltPepper.jpg
END:VEVENT
END:VCALENDAR