BEGIN:VCALENDAR
VERSION:2.0
PRODID:-//Cathedral International - ECPv6.15.17.1//NONSGML v1.0//EN
CALSCALE:GREGORIAN
METHOD:PUBLISH
X-ORIGINAL-URL:https://cathedralinternational.org
X-WR-CALDESC:Events for Cathedral International
REFRESH-INTERVAL;VALUE=DURATION:PT1H
X-Robots-Tag:noindex
X-PUBLISHED-TTL:PT1H
BEGIN:VTIMEZONE
TZID:America/New_York
BEGIN:DAYLIGHT
TZOFFSETFROM:-0500
TZOFFSETTO:-0400
TZNAME:EDT
DTSTART:20300310T070000
END:DAYLIGHT
BEGIN:STANDARD
TZOFFSETFROM:-0400
TZOFFSETTO:-0500
TZNAME:EST
DTSTART:20301103T060000
END:STANDARD
BEGIN:DAYLIGHT
TZOFFSETFROM:-0500
TZOFFSETTO:-0400
TZNAME:EDT
DTSTART:20310309T070000
END:DAYLIGHT
BEGIN:STANDARD
TZOFFSETFROM:-0400
TZOFFSETTO:-0500
TZNAME:EST
DTSTART:20311102T060000
END:STANDARD
BEGIN:DAYLIGHT
TZOFFSETFROM:-0500
TZOFFSETTO:-0400
TZNAME:EDT
DTSTART:20320314T070000
END:DAYLIGHT
BEGIN:STANDARD
TZOFFSETFROM:-0400
TZOFFSETTO:-0500
TZNAME:EST
DTSTART:20321107T060000
END:STANDARD
END:VTIMEZONE
BEGIN:VEVENT
DTSTART;TZID=America/New_York:20310213T193000
DTEND;TZID=America/New_York:20310213T203000
DTSTAMP:20260420T014647
CREATED:20260308T003705Z
LAST-MODIFIED:20260308T003822Z
UID:10013608-1928777400-1928781000@cathedralinternational.org
SUMMARY:Teen Bible Study
DESCRIPTION:March 12\, 2026 at 7:30 PM – CI Nation Teens Bible Study Launch\nWe are officially launching our Teens Bible Study! This will be a powerful time of diving deeper into God’s Word\, real conversations\, and spiritual growth. Don’t miss this special night\, invite a friend!\n\nClick here to join us on our YouTube Channel!
URL:https://cathedralinternational.org/event/teen-bible-study/2031-02-13/
LOCATION:Cathedral International\, 277 Madison Avenue\, Perth Amboy\, 08861\, United States
ATTACH;FMTTYPE=image/png:https://cathedralinternational.org/wp-content/uploads/2026/03/teenbiblestudy.png
END:VEVENT
BEGIN:VEVENT
DTSTART;TZID=America/New_York:20310216T093000
DTEND;TZID=America/New_York:20310216T113000
DTSTAMP:20260420T014647
CREATED:20260131T051552Z
LAST-MODIFIED:20260419T030800Z
UID:10013463-1929000600-1929007800@cathedralinternational.org
SUMMARY:Sunday Worship
DESCRIPTION:
URL:https://cathedralinternational.org/event/sunday-worship/2031-02-16/
LOCATION:Cathedral International\, 277 Madison Avenue\, Perth Amboy\, 08861\, United States
ATTACH;FMTTYPE=image/jpeg:https://cathedralinternational.org/wp-content/uploads/2026/01/SundayWorship.jpeg
END:VEVENT
END:VCALENDAR