BEGIN:VCALENDAR
VERSION:2.0
PRODID:-//Cathedral International - ECPv6.15.17.1//NONSGML v1.0//EN
CALSCALE:GREGORIAN
METHOD:PUBLISH
X-ORIGINAL-URL:https://cathedralinternational.org
X-WR-CALDESC:Events for Cathedral International
REFRESH-INTERVAL;VALUE=DURATION:PT1H
X-Robots-Tag:noindex
X-PUBLISHED-TTL:PT1H
BEGIN:VTIMEZONE
TZID:America/New_York
BEGIN:DAYLIGHT
TZOFFSETFROM:-0500
TZOFFSETTO:-0400
TZNAME:EDT
DTSTART:20300310T070000
END:DAYLIGHT
BEGIN:STANDARD
TZOFFSETFROM:-0400
TZOFFSETTO:-0500
TZNAME:EST
DTSTART:20301103T060000
END:STANDARD
BEGIN:DAYLIGHT
TZOFFSETFROM:-0500
TZOFFSETTO:-0400
TZNAME:EDT
DTSTART:20310309T070000
END:DAYLIGHT
BEGIN:STANDARD
TZOFFSETFROM:-0400
TZOFFSETTO:-0500
TZNAME:EST
DTSTART:20311102T060000
END:STANDARD
BEGIN:DAYLIGHT
TZOFFSETFROM:-0500
TZOFFSETTO:-0400
TZNAME:EDT
DTSTART:20320314T070000
END:DAYLIGHT
BEGIN:STANDARD
TZOFFSETFROM:-0400
TZOFFSETTO:-0500
TZNAME:EST
DTSTART:20321107T060000
END:STANDARD
END:VTIMEZONE
BEGIN:VEVENT
DTSTART;TZID=America/New_York:20310126T093000
DTEND;TZID=America/New_York:20310126T103000
DTSTAMP:20260419T214217
CREATED:20250202T052912Z
LAST-MODIFIED:20260131T161628Z
UID:10013174-1927186200-1927189800@cathedralinternational.org
SUMMARY:Sunday School
DESCRIPTION:
URL:https://cathedralinternational.org/event/sunday-school-2/2031-01-26/
LOCATION:The Family Life Center\, 272 Madison Ave.\, Perth Amboy\, NJ\, 08861\, United States
ATTACH;FMTTYPE=image/jpeg:https://cathedralinternational.org/wp-content/uploads/2026/01/ChildrenAndYouthSundaySchool.jpg
END:VEVENT
BEGIN:VEVENT
DTSTART;TZID=America/New_York:20310126T093000
DTEND;TZID=America/New_York:20310126T103000
DTSTAMP:20260419T214217
CREATED:20260131T131006Z
LAST-MODIFIED:20260131T160031Z
UID:10013155-1927186200-1927189800@cathedralinternational.org
SUMMARY:Children and Youth Sunday School
DESCRIPTION:
URL:https://cathedralinternational.org/event/children-and-youth-sunday-school-2/2031-01-26/
LOCATION:Cathedral International\, 277 Madison Avenue\, Perth Amboy\, 08861\, United States
ATTACH;FMTTYPE=image/jpeg:https://cathedralinternational.org/wp-content/uploads/2026/01/ChildrenAndYouthSundaySchool.jpg
END:VEVENT
BEGIN:VEVENT
DTSTART;TZID=America/New_York:20310126T093000
DTEND;TZID=America/New_York:20310126T113000
DTSTAMP:20260419T214217
CREATED:20260131T051552Z
LAST-MODIFIED:20260419T030800Z
UID:10013162-1927186200-1927193400@cathedralinternational.org
SUMMARY:Sunday Worship
DESCRIPTION:
URL:https://cathedralinternational.org/event/sunday-worship/2031-01-26/
LOCATION:Cathedral International\, 277 Madison Avenue\, Perth Amboy\, 08861\, United States
ATTACH;FMTTYPE=image/jpeg:https://cathedralinternational.org/wp-content/uploads/2026/01/SundayWorship.jpeg
END:VEVENT
BEGIN:VEVENT
DTSTART;TZID=America/New_York:20310127T063000
DTEND;TZID=America/New_York:20310127T070000
DTSTAMP:20260419T214217
CREATED:20240905T193350Z
LAST-MODIFIED:20260203T205050Z
UID:10013453-1927261800-1927263600@cathedralinternational.org
SUMMARY:Early Morning Prayer
DESCRIPTION:Please join us every morning\, Monday through Friday at 6:30 am for Cathedral International’s early morning prayer call. \nDIAL: (667) 770-1524\nCODE: 736131#
URL:https://cathedralinternational.org/event/early-morning-prayer-2/2031-01-27/
ATTACH;FMTTYPE=image/jpeg:https://cathedralinternational.org/wp-content/uploads/2024/09/SaltPepper.jpg
END:VEVENT
BEGIN:VEVENT
DTSTART;TZID=America/New_York:20310213T193000
DTEND;TZID=America/New_York:20310213T203000
DTSTAMP:20260419T214217
CREATED:20260308T003705Z
LAST-MODIFIED:20260308T003822Z
UID:10013608-1928777400-1928781000@cathedralinternational.org
SUMMARY:Teen Bible Study
DESCRIPTION:March 12\, 2026 at 7:30 PM – CI Nation Teens Bible Study Launch\nWe are officially launching our Teens Bible Study! This will be a powerful time of diving deeper into God’s Word\, real conversations\, and spiritual growth. Don’t miss this special night\, invite a friend!\n\nClick here to join us on our YouTube Channel!
URL:https://cathedralinternational.org/event/teen-bible-study/2031-02-13/
LOCATION:Cathedral International\, 277 Madison Avenue\, Perth Amboy\, 08861\, United States
ATTACH;FMTTYPE=image/png:https://cathedralinternational.org/wp-content/uploads/2026/03/teenbiblestudy.png
END:VEVENT
END:VCALENDAR